BEGIN:VCALENDAR
VERSION:2.0
PRODID:biblioteka.virtualu.lt
BEGIN:VEVENT
UID:69ea4c2259f1c
DTSTART:20221005T073000Z
SEQUENCE:0
TRANSP:OPAQUE
DTEND:20221004T210000Z
LOCATION:KMSVB Vaikų biblioteka (Danės g.7)
SUMMARY:Užsiėmimų ciklas „Tėvystė be streso“
CLASS:PUBLIC
DESCRIPTION:Spalio 5 d.\, trečiadienį\, 10.30 val. kviečiame tėvelius k
 artu su ikimokyklinio amžiaus vaikais į užsiėmimų ciklą „Tėvystė
  be streso“ Klaipėdos miesto savivaldybės Imanuelio Kanto viešosios b
 ibliotekos Vaikų padalinyje (Danės g. 7). Susitikimus ves Klaipėdos mie
 sto visuomenės sveikatos biuro psichologė Deimantė Adakauskienė.\nUžs
 iėmimų metu:\n\natidžiau panagrinėsime vaiko raidos ypatumus\;\naptars
 ime raidoje kylančius iššūkius\;\npatyrinėsime kasdienybėje kylanči
 as komplikuotas situacijas.\n\n*Svarbus dalyvavimas visame užsiėmimų ci
 kle (keturiuose užsiėmimuose). Kiti planuojami susitikimai: spalio 12\, 
 19\, 27 dienomis.\nUžsiėmimas rengiamas įgyvendinant Lietuvos kultūros
  tarybos finansuojamą projektą „Kaip (ne)išpūsti iš musės dramblio
 ?“\, skirtą visai šeimai: vaikams ir tėvams. Veiklomis prisidedame pr
 ie vaiko ir tėvų emocinės gerovės kūrimo\, skatiname kūrybiškumą\,
  bendruomeniškumą.\nUžsiėmimas NEMOKAMAS. BŪTINA REGISTRACIJA: tel. (
 8 46) 314719\; el. paštu: vaikai@biblioteka.lt arba FB žinute https://ww
 w.facebook.com/vaikaibiblioteka 
DTSTAMP:20260423T164314Z
END:VEVENT
END:VCALENDAR