BEGIN:VCALENDAR
VERSION:2.0
PRODID:biblioteka.virtualu.lt
BEGIN:VEVENT
UID:69ea4cac9adb9
DTSTART:20220919T073000Z
SEQUENCE:0
TRANSP:OPAQUE
DTEND:20220918T210000Z
LOCATION:KMSVB Vaikų biblioteka (Danės g.7)
SUMMARY:Užsiėmimas mažiesiems su muzikos terapeute Vita Glinskyte
CLASS:PUBLIC
DESCRIPTION:Rugsėjo 19 d. 10.30 val. kviečiame tėvelius kartu su vaikais
  (10 mėn. – 2 m.) į „Muzikinį užsiėmimą mažiesiems“ Klaipėdo
 s miesto savivaldybės I.Kanto viešosios bibliotekos Vaikų padalinyje (D
 anės g. 7). Užsiėmimą veda Vita Glinskytė – muzikos terapeutė.\nMu
 zikavimas kartu su savo vaiku ne tik linksma\, teikianti džiaugsmą veikl
 a\, bet ir puikus būdas prisidėti prie svarbių vaiko raidos aspektų: d
 ėmesio sutelkimo\, socialinių\, savireguliacijos įgūdžių stiprinimo.
  Šio užsiėmimo metu dainuosime\, žaisime muzikinius žaidimus\, klausy
 simės muzikos ir kitų garsų\, grosime bei šoksime. Šios veiklos prita
 ikytos taip\, kad po užsiėmimo jas būtų lengva įtraukti į savo kasdi
 enybę\, padrąsinant tėvelius muzikuoti kartu su vaikais.\nUžsiėmimas 
 rengiamas įgyvendinant Lietuvos kultūros tarybos finansuojamą projektą
  „Kaip (ne)išpūsti iš musės dramblio?“\, skirtą visai šeimai: va
 ikams ir tėvams. Veiklomis prisidedame prie vaiko ir tėvų emocinės ger
 ovės kūrimo\, skatiname kūrybiškumą\, bendruomeniškumą.\nUžsiėmim
 as NEMOKAMAS. BŪTINA REGISTRACIJA: tel. (8 46) 314719\; el. paštu: vaika
 i@biblioteka.lt arba FB žinute https://www.facebook.com/vaikaibiblioteka
  \nDalintis: https://fb.me/e/3Cq40Fpvl \nRenginio akimirkos
DTSTAMP:20260423T164532Z
END:VEVENT
END:VCALENDAR