BEGIN:VCALENDAR
VERSION:2.0
PRODID:biblioteka.virtualu.lt
BEGIN:VEVENT
UID:69ea4c8a6ccff
DTSTART:20220607T073000Z
SEQUENCE:0
TRANSP:OPAQUE
DTEND:20220606T210000Z
LOCATION:KMSVB Vaikų biblioteka (Danės g.7)
SUMMARY:Užsiėmimas mažiesiems „Patyrimas ir kūryba“ su psichologe S
 andra Kybransaite
CLASS:PUBLIC
DESCRIPTION:Birželio 7 d.\, antradienį\, 10.30 val. Klaipėdos miesto sav
 ivaldybės Imanuelio Kanto viešosios bibliotekos Vaikų padalinyje (Danė
 s g. 7) kviečiame tėvelius kartu su vaikais (iki 3 m.) į užsiėmimą 
 „Patyrimas ir kūryba“. Užsiėmimo tikslas – suteikti teigiamų emo
 cijų\, skatinti pojūčių lavinimą. Susitikimą veda - 10-ies metų pat
 irtį turinti vaikų psichologė\, „Pojūčių pasaulio“ steigėja\, 3
 -iejų vaikų mama - Sandra Kybransaitė.\nUžsiėmimas rengiamas įgyvend
 inant Lietuvos kultūros tarybos finansuojamą projektą „Kaip (ne)išp
 ūsti iš musės dramblio?“ – skirtą visai šeimai: vaikams ir tėvam
 s. Veiklomis prisidėsime prie vaiko ir tėvų emocinės gerovės kūrimo\
 , skatinsime kūrybiškumą\, bendruomeniškumą.\nRenginys NEMOKAMAS.\nB
 ŪTINA REGISTRACIJA tel. (8 46) 314719 arba el. paštu: vaikai@biblioteka.
 lt \nDalintis: https://www.facebook.com/events/1643894762660705 
DTSTAMP:20260423T164458Z
END:VEVENT
END:VCALENDAR