BEGIN:VCALENDAR
VERSION:2.0
PRODID:biblioteka.virtualu.lt
BEGIN:VEVENT
UID:69ea4c516618a
DTSTART:20220531T073000Z
SEQUENCE:0
TRANSP:OPAQUE
DTEND:20220530T210000Z
LOCATION:KMSVB Vaikų biblioteka (Danės g.7)
SUMMARY:„Pojūčių lavinimo svarba“ su psichologe Sandra Kybransaite
CLASS:PUBLIC
DESCRIPTION:Gegužės 31 d.\, antradienį\, 10.30 val. Klaipėdos miesto sa
 vivaldybės Imanuelio Kanto viešosios bibliotekos Vaikų padalinyje (Dan
 ės g. 7) kviečiame tėvelius kartu su vaikais (6 mėn.-3m.) į paskaitą
  „Pojūčių lavinimo svarba“. Paskaitą veda – 10-ies metų patirt
 į turinti vaikų psichologė\, „Pojūčių pasaulio“ steigėja\, 3-ie
 jų vaikų mama – Sandra Kybransaitė.\nSusitikimo metu sužinosime\, ka
 ip lavinti vaikų pojūčius\, kodėl svarbu tai daryti\, kokias emocijas 
 kelia pojūčių lavinimo žaidimai. Kartu su vaikais praktiškai išmėgi
 nsime įvairias patyrimines veiklas.\nPaskaita rengiama įgyvendinant Liet
 uvos kultūros tarybos finansuojamą projektą „Kaip (ne)išpūsti iš m
 usės dramblio?“ – skirtą visai šeimai: vaikams ir tėvams. Veiklomi
 s prisidėsime prie vaiko ir tėvų emocinės gerovės kūrimo\, skatinsim
 e kūrybiškumą\, bendruomeniškumą.\nRenginys NEMOKAMAS.\nBŪTINA REGIS
 TRACIJA tel. (8 46) 314719 arba el. paštu: vaikai@biblioteka.lt 
DTSTAMP:20260423T164401Z
END:VEVENT
END:VCALENDAR