BEGIN:VCALENDAR
VERSION:2.0
PRODID:biblioteka.virtualu.lt
BEGIN:VEVENT
UID:69ea4cd7058fa
DTSTART:20221028T073000Z
SEQUENCE:0
TRANSP:OPAQUE
DTEND:20221027T210000Z
LOCATION:KMSVB Vaikų biblioteka (Danės g.7)
SUMMARY:Patyriminė edukacija „Ten\, kur saulė šviečia“ su Sanna Kar
 osas
CLASS:PUBLIC
DESCRIPTION:Spalio 28 d.\, penktadienį\, 10.30 val. kviečiame priešmokyk
 linukus\, pirmokus į patyriminę edukaciją „Ten\, kur saulė šviečia
 “ Klaipėdos miesto savivaldybės Imanuelio Kanto viešosios bibliotekos
  Vaikų padalinyje (Danės g. 7). Užsiėmimą veda Sanna Karosas – 5-i
 ų vaikų mama\, Žmonių su Dauno sindromu ir jų globėjų asociacijos l
 ektorė\, buvusi LCC tarptautinio universiteto dėstytoja.\nPasitelkdami 
 žaidimus\, pokalbius\, sensorinius patyrimus\, bandysime suprasti\, kas y
 ra (ne)galia. Tyrinėsime: esame daugiau skirtingi ar panašūs\, kokias g
 alias turime kiekvienas iš mūsų. Geriau pažinsime saulytes – Dauno s
 indromą turinčius žmones.\nUžsiėmimas rengiamas įgyvendinant Lietuvo
 s kultūros tarybos finansuojamą projektą „Kaip (ne)išpūsti iš mus
 ės dramblio?“\, skirtą visai šeimai: vaikams ir tėvams. Veiklomis pr
 isidedame prie vaiko ir tėvų emocinės gerovės kūrimo\, skatiname kūr
 ybiškumą\, bendruomeniškumą.\nUžsiėmimas NEMOKAMAS.\nBŪTINA REGISTR
 ACIJA: tel. (8 46) 314719\; el. paštu: vaikai@biblioteka.lt arba FB žinu
 te https://www.facebook.com/vaikaibiblioteka. GRUPĖ PILNA
DTSTAMP:20260423T164615Z
END:VEVENT
END:VCALENDAR