BEGIN:VCALENDAR
VERSION:2.0
PRODID:biblioteka.virtualu.lt
BEGIN:VEVENT
UID:69ea4b18339f0
DTSTART:20220929T070000Z
SEQUENCE:0
TRANSP:OPAQUE
DTEND:20220929T101500Z
LOCATION:I. Kanto viešoji biblioteka (Turgaus g. 8)
SUMMARY:Patirties dalinimosi konferencija „Negalios jungtys: patirtys ir 
 alternatyvos“
CLASS:PUBLIC
DESCRIPTION:Klaipėdos miesto savivaldybės Imanuelio Kanto viešoji biblio
 teka kryptingai ir rezultatyviai bendradarbiauja su organizacijomis\, vien
 ijančiomis įvairias negalias turinčius klaipėdiečius\, inicijuoja ir 
 įgyvendina neįgaliesiems skirtus projektus.\nRugsėjo 29 d.\, ketvirtadi
 enį\, 10.00–13.15 val.\, Klaipėdos miesto savivaldybės Imanuelio Kant
 o viešojoje bibliotekoje (Turgaus g. 8) vyks patirties dalinimosi konfere
 ncija „Negalios jungtys: patirtys ir alternatyvos“.\nKonferencijoje pr
 anešimus skaitys Klaipėdos universiteto doc. dr. Jūratė Ruškė\, Klai
 pėdos lopšelio darželio „Puriena“ logopedė Ilona Austienė\, Klaip
 ėdos miesto socialinių paslaugų centro „Danė“ senyvo amžiaus žmo
 nių padalinio socialinė darbuotoja Armida Zdanienė\, Visuomeninės orga
 nizacijos Lietuvos sutrikusio intelekto žmonių globos bendrijos „Klaip
 ėdos viltis“ užimtumo specialistė Ieva Ubartaitė\, BĮ neįgaliųjų
  centro „Klaipėdos lakštutė“ socialinė darbuotoja Vilma Petrauskė
 \, Nevyriausybinės organizacijos „Klaipėdos sutrikusios psichikos žmo
 nių globos bendrijos“ vadovė Lilia Baltutienė\, menininkė\, dailės 
 studijos „Spalvų taku“ įkūrėja Inga Adikevičienė\, filologas Dan
 ielius Milašauskas.\nKonferencijos metu bus pasakojamos neįgaliųjų pat
 irtys ir diskutuojama\, kodėl reikalingas atvirumas. Konferencijos modera
 torės – doc. dr. Jūratė Ruškė ir projekto „Negalios iššūkis: i
 ntegracija“ koordinatorė Loreta Liutkutė.\nKonferencija organizuojama 
 įgyvendinant Lietuvos kultūros tarybos dalinai finansuotą projektą „
 Negalios iššūkis: integracija“\, kurio tikslas - mažinti intelekto s
 utrikimų ir kitokią negalią turinčių asmenų socialinę ir kultūrin
 ę atskirtį\, inicijuoti ir palaikyti aktyvų ir įtraukiantį bendradarb
 iavimą tarp neįgalius asmenis telkiančių institucijų\, sudaryti sąly
 gas neįgaliesiems dalyvauti kūrybinėse veiklose – sukurti palankias s
 ąlygas meninei saviraiškai ir kūrybingumui\, lavinti neįgaliųjų geb
 ėjimus\, skatinti pažinti krašto istoriją\, kultūros paveldą\, dalyv
 auti parengtose mokymų programose\, pristatyti veiklas ir pasiektus rezul
 tatus visuomenei. Įgyvendinant projektą surengti šie kultūrinių-eduka
 cinių renginių ciklai: „Kalbos formulė“\, „Garsomobilis“\, „H
 aiku dirbtuvės“\, „Kūno atmintis“\, „Istorijos architektai“.\n
 Konferencija skirta visiems. Kviečiame dalyvauti!\nKONFERENCIJOS PROGRAMA
 :\n10.00 – 10.50 Registracija10.50 – 11.00 Sveikinimo žodis11.00 –1
 1.15 Klaipėdos universiteto doc. dr. JŪRATĖ RUŠKĖ\, Klaipėdos lopše
 lio darželio „Puriena“ logopedė ILONA AUSTIENĖ„Gyvųjų (ne)galio
 s knygų turinys – prasmingesnis už viršelį: VšĮ „Likimo laiptai
 “\, Klaipėdos lopšelio darželio „Puriena“\, „Klaipėdos neįgal
 iųjų reikalų tarybos“ veiklų apžvalga“.\n11.15 – 11.25 Klaipėd
 os miesto socialinių paslaugų centro „Danė“ senyvo amžiaus žmoni
 ų padalinio socialinė darbuotoja ARMIDA ZDANIENĖ„Rojus žemėje“.\n
 11.25–11.35 Visuomeninės organizacijos Lietuvos sutrikusio intelekto ž
 monių globos bendrijos „Klaipėdos viltis“ užimtumo specialistė IEV
 A UBARTAITĖ„Kliento stiprybių atskleidimas kaip pagalbos asmenims su n
 egalia tobulinimo galimybė“\n11.35–11.45 BĮ neįgaliųjų centro „
 Klaipėdos lakštutė“ socialinė darbuotoja VILMA PETRAUSKĖ„Neįgali
 ųjų centro „Klaipėdos lakštutė“ veikla ir gerosios patirties skla
 ida“.\n11.45 – 11.55 Nevyriausybinės organizacijos „Klaipėdos sutr
 ikusios psichikos žmonių globos bendrijos“ vadovė LILIA BALTUTIENĖ
 „Psichikos negalia. Kasdieniai iššūkiai ir tai\, kas lieka nepastebė
 ta“.\n11.55 – 12.05 menininkė\, dailės studijos „Spalvų taku“ 
 įkūrėja INGA ADIKEVIČIENĖ\, filologas DANIELIUS MILAŠAUSKAS„Patirt
 ys\, kurios suartina: Haiku Klaipėdos miestui“.\n12.15 – 12.45 Kavos 
 pertrauka12.45 – 13.15 diskusija „Neįgaliųjų patirtys. Kodėl reika
 lingas atvirumas?“.Diskusijos moderatorė – projekto „Negalios išš
 ūkis: integracija“ koordinatorė Loreta Liutkutė.\nRenginio plakatas\n
 Dalintis: https://fb.me/e/1K30M0KZx 
DTSTAMP:20260423T163848Z
END:VEVENT
END:VCALENDAR