BEGIN:VCALENDAR
VERSION:2.0
PRODID:biblioteka.virtualu.lt
BEGIN:VEVENT
UID:69ea4c5164f74
DTSTART:20220614T073000Z
SEQUENCE:0
TRANSP:OPAQUE
DTEND:20220613T210000Z
LOCATION:KMSVB Vaikų biblioteka (Danės g.7)
SUMMARY:Paskaita šeimai „Emocinio ugdymo svarba“ su Sandra Kybransaite
CLASS:PUBLIC
DESCRIPTION:Birželio 14 d.\, antradienį\, 10.30 val. Klaipėdos miesto sa
 vivaldybės Imanuelio Kanto viešosios bibliotekos Vaikų padalinyje (Dan
 ės g. 7) kviečiame tėvelius kartu su vaikais (iki 3m.) į paskaitą su 
 praktika „Emocinio ugdymo svarba“. Paskaitą veda - 10-ies metų patir
 tį turinti vaikų psichologė\, „Pojūčių pasaulio“ steigėja\, 3-i
 ejų vaikų mama - Sandra Kybransaitė.\nSusitikimo metu sužinosime\, kas
  yra emocinis intelektas\, kuo jis reikšmingas žmogaus gyvenime\, kaip p
 aprastai ir smagiai galima lavinti vaikų emocinį intelektą. Kartu su va
 ikais praktiškai išmėginsime įvairias patyrimines veiklas.\nDalyvaujan
 čių tėvelių prašome turėti kojines\, vaikams - rūbelius persirengim
 ui po užsiėmimo. Galime išsitepti.\nPaskaita rengiama įgyvendinant Lie
 tuvos kultūros tarybos finansuojamą projektą „Kaip (ne)išpūsti iš 
 musės dramblio?“ – skirtą visai šeimai: vaikams ir tėvams. Veiklom
 is prisidėsime prie vaiko ir tėvų emocinės gerovės kūrimo\, skatinsi
 me kūrybiškumą\, bendruomeniškumą.\nRenginys NEMOKAMAS.\nBŪTINA REGI
 STRACIJA tel. (8 46) 314719 arba el. paštu: vaikai@biblioteka.lt \nDalin
 tis: https://www.facebook.com/events/411968174168889 
DTSTAMP:20260423T164401Z
END:VEVENT
END:VCALENDAR