BEGIN:VCALENDAR
VERSION:2.0
PRODID:biblioteka.virtualu.lt
BEGIN:VEVENT
UID:69ea4cb9935b9
DTSTART:20220616T143000Z
SEQUENCE:0
TRANSP:OPAQUE
DTEND:20220615T210000Z
LOCATION:I. Kanto viešoji biblioteka (Turgaus g. 8)
SUMMARY:Paskaita „Efektyvi komunikacija: pagrindiniai sėkmingo bendravim
 o principai“
CLASS:PUBLIC
DESCRIPTION:Birželio 16 d.\, ketvirtadienį\, 17.30 val. Klaipėdos miesto
  savivaldybės Imanuelio Kanto viešojoje bibliotekoje (Turgaus g. 8) kvie
 čiame į atvirą paskaitą „Efektyvi komunikacija: pagrindiniai sėkmin
 go bendravimo principai“. Paskaitą ves lektorė\, organizacijų psichol
 ogė Aistė Mažeikienė.\nPaskaitoje aptarsime šiuos klausimus:\n\nAr yr
 a bendrų\, visiems tinkamų komunikacijos principų\,ar su kiekvienu reik
 ia atskiro „kodo“?\nKaip elgtis\, kai nesulaukiame kito žmogaus reakc
 ijos?\nKuo panašūs abejingumas ir... neaiškumas?\nKiek veiksminga komun
 ikacija yra... motyvacija?\nKaip užtikrinti sklandų bei operatyvų susik
 albėjimą?\n„Apsinuodijimas žmonėmis“ ir kaip jo išvengti?\n\nOrga
 nizacijų psichologė Aistė Mažeikienė turi 24 metų aktyvaus praktini
 ų įgūdžių mokymo patirtį: veda praktinius mokymus ir konsultacijas p
 ersonalo valdymo\, klientų aptarnavimo\, įtaigaus bendravimo temomis. Š
 alia mokymų veiklos\, VU Verslo mokykloje dėsto „Verslo psichologiją
 “\, Kazimiero Simonavičiaus universitete – „Teisės psichologiją
 “\, „Juridinę retoriką“.\nRenginys organizuojamas įgyvendinant Li
 etuvos kultūros tarybos finansuotą projektą „Negalios iššūkis: int
 egracija“.\nKviečiame dalyvauti!\nDalintis: https://www.facebook.com/ev
 ents/322180326774442 
DTSTAMP:20260423T164545Z
END:VEVENT
END:VCALENDAR