BEGIN:VCALENDAR
VERSION:2.0
PRODID:biblioteka.virtualu.lt
BEGIN:VEVENT
UID:69ea4cac9aa1a
DTSTART:20221001T080000Z
SEQUENCE:0
TRANSP:OPAQUE
DTEND:20220930T210000Z
LOCATION:KMSVB Vaikų biblioteka (Danės g.7)
SUMMARY:Muzikinis užsiėmimas su muzikos terapeute Vita Glinskyte
CLASS:PUBLIC
DESCRIPTION:Spalio 1 d.\, šeštadienį\, 11 val. kviečiame tėvelius kart
 u su vaikais (1–3 m.) į „Muzikinį užsiėmimą“ Klaipėdos miesto 
 savivaldybės Imanuelio Kanto viešosios bibliotekos Vaikų padalinyje (Da
 nės g. 7). Užsiėmimą veda Vita Glinskytė – muzikos terapeutė.\nMuz
 ikavimas kartu su savo vaiku ne tik linksma\, teikianti džiaugsmą veikla
 \, bet ir puikus būdas prisidėti prie svarbių vaiko raidos aspektų: d
 ėmesio sutelkimo\, socialinių\, savireguliacijos įgūdžių stiprinimo.
  Šio užsiėmimo metu dainuosime\, žaisime muzikinius žaidimus\, klausy
 simės muzikos ir kitų garsų\, grosime bei šoksime. Šios veiklos prita
 ikytos taip\, kad po užsiėmimo jas būtų lengva įtraukti į savo kasdi
 enybę\, padrąsinant tėvelius muzikuoti kartu su vaikais.\nUžsiėmimas 
 rengiamas įgyvendinant Lietuvos kultūros tarybos finansuojamą projektą
  „Kaip (ne)išpūsti iš musės dramblio?“\, skirtą visai šeimai: va
 ikams ir tėvams. Veiklomis prisidedame prie vaiko ir tėvų emocinės ger
 ovės kūrimo\, skatiname kūrybiškumą\, bendruomeniškumą.\nUžsiėmim
 as NEMOKAMAS. BŪTINA REGISTRACIJA: tel. (8 46) 314719\; el. paštu: vaika
 i@biblioteka.lt arba FB žinute https://www.facebook.com/vaikaibiblioteka
  \nDalintis: https://www.facebook.com/events/407944041524289 
DTSTAMP:20260423T164532Z
END:VEVENT
END:VCALENDAR