BEGIN:VCALENDAR
VERSION:2.0
PRODID:biblioteka.virtualu.lt
BEGIN:VEVENT
UID:69ea4c5164bda
DTSTART:20220908T140000Z
SEQUENCE:0
TRANSP:OPAQUE
DTEND:20220907T210000Z
LOCATION:KMSVB Vaikų biblioteka (Danės g.7)
SUMMARY:Muzikinis užsiėmimas mažiesiems su Vita Glinskyte
CLASS:PUBLIC
DESCRIPTION:Rugsėjo 8 d. 17 val. kviečiame tėvelius kartu su vaikais (10
  mėn. – 2 m.) į „Muzikinį užsiėmimą mažiesiems“ Klaipėdos mi
 esto savivaldybės I.Kanto viešosios bibliotekos Vaikų padalinyje (Danė
 s g. 7). Užsiėmimą veda Vita Glinskytė – muzikos terapeutė.\nMuzika
 vimas kartu su savo vaiku ne tik linksma\, teikianti džiaugsmą veikla\, 
 bet ir puikus būdas prisidėti prie svarbių vaiko raidos aspektų: dėme
 sio sutelkimo\, socialinių\, savireguliacijos įgūdžių stiprinimo. Ši
 ų užsiėmimo metu dainuosime\, žaisime muzikinius žaidimus\, klausysim
 ės muzikos ir kitų garsų\, grosime bei šoksime. Šios veiklos pritaiky
 tos taip\, kad po užsiėmimo jas būtų lengva įtraukti į savo kasdieny
 bę\, padrąsinant tėvelius muzikuoti kartu su vaikais.\nUžsiėmimas ren
 giamas įgyvendinant Lietuvos kultūros tarybos finansuojamą projektą 
 „Kaip (ne)išpūsti iš musės dramblio?“\, skirtą visai šeimai: vai
 kams ir tėvams. Veiklomis prisidedame prie vaiko ir tėvų emocinės gero
 vės kūrimo\, skatiname kūrybiškumą\, bendruomeniškumą.\nUžsiėmima
 s NEMOKAMAS. BŪTINA REGISTRACIJA: tel. (8 46) 314719\; el. paštu: vaikai
 @biblioteka.lt arba FB žinute https://www.facebook.com/vaikaibiblioteka 
 \nDalintis: https://fb.me/e/2265INB3j \nRenginio akimirkos
DTSTAMP:20260423T164401Z
END:VEVENT
END:VCALENDAR