BEGIN:VCALENDAR
VERSION:2.0
PRODID:biblioteka.virtualu.lt
BEGIN:VEVENT
UID:69ea4b183ffe6
DTSTART:20221021T080000Z
SEQUENCE:0
TRANSP:OPAQUE
DTEND:20221020T210000Z
LOCATION:KMSVB Vaikų biblioteka (Danės g.7)
SUMMARY:Muzikinis spektaklis „Keverzonė“ 1\,5-4 m. vaikams
CLASS:PUBLIC
DESCRIPTION:Spalio 21 d.\, penktadienį\, 11 val. kviečiame tėvelius kart
 u su vaikais (1\,5–4 m.) į muzikinio teatro visai šeimai „GYVI TEATR
 E“ interaktyvų muzikinį spektaklį „Keverzonė“ Klaipėdos miesto 
 savivaldybės Imanuelio Kanto viešosios bibliotekos Vaikų padalinyje (Da
 nės g. 7).\nSpektaklis „Keverzonė“ savo spalvomis ir jaukumu nuspalv
 ins įprastą vaikų dieną. Tai interaktyvus susitikimas\, kurio metu ži
 ūrovai kviečiami prisijungti į žaismingą siužetą\, kartu muzikuoti 
 ir spalvinti. Šio spektaklio veikėjos yra dvi spalvos Mėlyna ir Geltona
 \, kurios pasakoja istoriją apie draugystę.\nRenginys organizuojamas įg
 yvendinant Lietuvos kultūros tarybos finansuojamą projektą „Kaip (ne)
 išpūsti iš musės dramblio?“ – skirtą visai šeimai: vaikams ir t
 ėvams. Veiklomis prisidedame prie vaiko ir tėvų emocinės gerovės kūr
 imo\, skatiname kūrybiškumą\, bendruomeniškumą.\nRenginys NEMOKAMAS.\
 nSpektaklio metu bus fotografuojama.\nBŪTINA REGISTRACIJA: tel. (8 46) 31
 4719\; el. paštu: vaikai@biblioteka.lt arba FB žinute https://www.facebo
 ok.com/vaikaibiblioteka \nDalintis: https://www.facebook.com/events/79052
 9695574725 \nRenginio akimirkos
DTSTAMP:20260423T163848Z
END:VEVENT
END:VCALENDAR