BEGIN:VCALENDAR
VERSION:2.0
PRODID:biblioteka.virtualu.lt
BEGIN:VEVENT
UID:69ea4c72c4df9
DTSTART:20220512T073000Z
SEQUENCE:0
TRANSP:OPAQUE
DTEND:20220511T210000Z
LOCATION:KMSVB Vaikų biblioteka (Danės g.7)
SUMMARY:Kūrybinis užsiėmimas mažiesiems „Žaidžiu ir tyrinėju“
CLASS:PUBLIC
DESCRIPTION:Gegužės 12 d.\, ketvirtadienį\, 10.30 val. Klaipėdos miesto
  savivaldybės Imanuelio Kanto viešosios bibliotekos Vaikų padalinyje (D
 anės g. 7) vyks kūrybinis užsiėmimas mažiesiems (8 mėn. – 3 m.) 
 „Žaidžiu ir tyrinėju“. Bendraudami\, kurdami ir tyrinėdami\, paži
 nsime mus supantį pasaulį. Atrasime ir prisiminsime\, kaip panaudodami t
 ai\, ką randame savo aplinkoje\, galime sukurti smagius žaidimus.\nUžsi
 ėmimas rengiamas įgyvendinant Lietuvos kultūros tarybos finansuojamą p
 rojektą „Kaip (ne)išpūsti iš musės dramblio?“ – skirtą visai 
 šeimai: vaikams ir tėvams. Veiklomis prisidėsime prie vaiko ir tėvų e
 mocinės gerovės kūrimo\, skatinsime kūrybiškumą\, bendruomeniškumą
  bei vartotojiškumo mažinimą.\nUžsiėmimas NEMOKAMAS.\nBŪTINA REGISTR
 ACIJA tel. (8 46) 314719 arba el. paštu: vaikai@biblioteka.lt 
DTSTAMP:20260423T164434Z
END:VEVENT
END:VCALENDAR