BEGIN:VCALENDAR
VERSION:2.0
PRODID:biblioteka.virtualu.lt
BEGIN:VEVENT
UID:69ea4c8a4bed8
DTSTART:20220428T073000Z
SEQUENCE:0
TRANSP:OPAQUE
DTEND:20220427T210000Z
LOCATION:KMSVB Vaikų biblioteka (Danės g.7)
SUMMARY:Kūrybinis užsiėmimas mažiesiems „Žaidžiu ir tyrinėju tvari
 ai“
CLASS:PUBLIC
DESCRIPTION:Balandžio 28 d. 10.30 val. Klaipėdos miesto savivaldybės Ima
 nuelio Kanto viešosios bibliotekos Vaikų padalinyje (Danės g. 7) vyks k
 ūrybinis užsiėmimas mažiesiems (8 mėn. – 3 m.) „Žaidžiu ir tyri
 nėju tvariai“. Bendraudami\, kurdami ir tyrinėdami\, pažinsime mus su
 pantį pasaulį. Atrasime ir prisiminsime\, kaip panaudodami tai\, ką ran
 dame gamtoje\, antrines žaliavas galime suskurti smagius žaidimus.\nUžs
 iėmimas rengiamas įgyvendinant Lietuvos kultūros tarybos finansuojamą 
 projektą „Kaip (ne)išpūsti iš musės dramblio?“ – skirtą visai 
 šeimai: vaikams ir tėvams. Kuriamomis veiklomis prisidėsime prie vaiko 
 ir tėvų emocinės gerovės kūrimo\, skatinsime kūrybiškumą\, bendruo
 meniškumą bei vartotojiškumo mažinimą.\nUžsiėmimas NEMOKAMAS.BŪTIN
 A REGISTRACIJA tel. (8 46) 314719 arba el. paštu: vaikai@biblioteka.lt \
 nNacionalinės Lietuvos bibliotekų savaitės renginiai
DTSTAMP:20260423T164458Z
END:VEVENT
END:VCALENDAR