BEGIN:VCALENDAR
VERSION:2.0
PRODID:biblioteka.virtualu.lt
BEGIN:VEVENT
UID:69ea6aafd7d38
DTSTART:20221005T080000Z
SEQUENCE:0
TRANSP:OPAQUE
DTEND:20221004T210000Z
LOCATION:I. Kanto viešoji biblioteka (Turgaus g. 8)
SUMMARY:Konkurso „Haiku Klaipėdos miestui“ parodos atidarymas
CLASS:PUBLIC
DESCRIPTION:Klaipėdos miesto savivaldybės I. Kanto viešoji biblioteka ne
 įgaliųjų organizacijas ir pavienius neįgalius asmenis vasarą skatino 
 dalyvauti konkurse „Haiku Klaipėdos miestui“.\nSpalio 5 d. (trečiadi
 enį) 11.00 val. kviečiame į konkurso-parodos apdovanojimų renginį\, k
 uris vyks I. Kanto viešojoje bibliotekoje (Turgaus g. 8). Parodoje\, skir
 toje Klaipėdos miesto 770 metų jubiliejui\, eksponuojami geriausi konkur
 sui pateikti haiku kūriniai\, kuriuos subtiliai iliustravo menininkė Ing
 a Adikevičienė.\nParodą galima aplankyti iki spalio 14 d.\n„Klaipėdo
 j lyjaSpalvoti skėčiai banguojaKaip Baltijos jūra“\nHaiku – prozin
 ės poezijos stilius\, unikali Japonijos poezijos forma\, kuri dėl savo s
 truktūros ir žodžio taupumo leidžia pasiekti unikalias kombinacijas\, 
 taikliai\, paprastai ir netikėtai išsakyti mintis\, užslėptas emocijas
 . Šis žanras ypač naudingas tiems\, kuriems sunku atsiverti\, žodžiai
 s įvardinti emocijas ir būsenas. Šiuo atveju pakanka vos kelių žodži
 ų ar frazių\, kad žmonės su proto ar psichikos negalia galėtų pajust
 i kūrybos procesą ir jo teikiamą naudą.\n„Haiku dirbtuvės“ – ne
  individualus\, bet visų grupės narių bendras kūrybinis procesas\, kur
 is paskatino komunikuoti skirtingų bendruomenių narius ir pajusti bendra
 vimo džiaugsmą. Šios dirbtuvės ir konkursas „Haiku Klaipėdos miestu
 i“ organizuotas įgyvendinant Lietuvos kultūros tarybos finansuotą pro
 jektą „Negalios iššūkis: integracija“.\nKviečiame aplankyti!
DTSTAMP:20260423T185335Z
END:VEVENT
END:VCALENDAR