BEGIN:VCALENDAR
VERSION:2.0
PRODID:biblioteka.virtualu.lt
BEGIN:VEVENT
UID:69ea31d42df11
DTSTART:20230124T153000Z
SEQUENCE:0
TRANSP:OPAQUE
DTEND:20230123T220000Z
LOCATION:KMSVB „Kauno atžalyno“ biblioteka (Kauno g. 49)
SUMMARY:Kartu-skanu: suvalkietiškos virtuvės vakaras su Vilija Malakauski
 ene
CLASS:PUBLIC
DESCRIPTION:Gaminti taupiai\, sveikai ir skaniai turbūt yra kiekvienos še
 imininkės svajonė. O taupiausi sakoma\, jog yra suvalkiečiai. Ar tikrai
 ? Sausio 24 d.\, antradienį\, 17.30 val. kviečiame į Maisto klubo „Ka
 rtu-skanu“ suvalkietiškos virtuvės vakarą su Vilija Malakauskiene. Su
 sitikimas vyks Klaipėdos miesto savivaldybės Imanuelio Kanto viešosios 
 bibliotekos „Kauno atžalyno padalinyje (Kauno g. 49).\nRenginys organiz
 uojamas pagal bendruomenių stiprinimo projektą „KARTU–SKANU“\, kur
 į finansuoja Europos kultūros fondas\, „Europos iššūkis 2022“ pro
 grama. Maisto klubo susitikimai vyksta kas antrą antradienį.\nKviečiame
  ir laukiame! Renginio metu gali būti fotografuojama ir/ar filmuojama.
DTSTAMP:20260423T145100Z
END:VEVENT
END:VCALENDAR