BEGIN:VCALENDAR
VERSION:2.0
PRODID:biblioteka.virtualu.lt
BEGIN:VEVENT
UID:69ea31d42df1c
DTSTART:20221220T153000Z
SEQUENCE:0
TRANSP:OPAQUE
DTEND:20221219T220000Z
LOCATION:KMSVB „Kauno atžalyno“ biblioteka (Kauno g. 49)
SUMMARY:KARTU – SKANU: susitikimas su maisto technologe Ana Žiliene
CLASS:PUBLIC
DESCRIPTION:Gruodžio 20 d.\, antradienį\, 17.30 val. kviečiame į susiti
 kimą su maisto technologe Ana Žiliene Klaipėdos miesto savivaldybės Im
 anuelio Kanto viešosios bibliotekos „Kauno atžalyno“ padalinyje (Kau
 no g. 49). Sužinosime\, kaip išsirinkti gerą silkę ir ką su ja daryti
  parsinešus namo. Išgirsime rekomendacijų ir patarimų\, kaip silkę pa
 tiekti\, kad ji taptų vaišių pasididžiavimu. Be abejo\, ragausime pati
 ekalus bei dalinsimės receptais. Juk kartu-skanu!\nRenginys organizuojama
 s pagal bendruomenių stiprinimo projektą „KARTU–SKANU“\, kurį fin
 ansuoja Europos kultūros fondas\, „Europos iššūkis 2022“ programa.
 \nRenginio metu gali būti fotografuojama ir/ar filmuojama.\nKviečiame da
 lyvauti!\nRenginio plakatas\nRenginio akimirkos
DTSTAMP:20260423T145100Z
END:VEVENT
END:VCALENDAR