BEGIN:VCALENDAR
VERSION:2.0
PRODID:biblioteka.virtualu.lt
BEGIN:VEVENT
UID:69ea33e025a24
DTSTART:20221206T153000Z
SEQUENCE:0
TRANSP:OPAQUE
DTEND:20221205T220000Z
LOCATION:KMSVB „Kauno atžalyno“ biblioteka (Kauno g. 49)
SUMMARY:KARTU – SKANU: susitikimas „Mityba advento laikotarpiu – ką 
 įsidėti į pirkinių krepšelį“
CLASS:PUBLIC
DESCRIPTION:Gruodžio 6 d. 17.30 val. Klaipėdos miesto savivaldybės Imanu
 elio Kanto viešosios bibliotekos „Kauno atžalyno“ padalinyje (Kauno 
 g. 49) maisto klubas „Kartu-skanu“ kviečia į susitikimą-pokalbį 
 „Mityba advento laikotarpiu – ką įsidėti į pirkinių krepšelį“
  su mitybos specialiste\, dietiste Modesta Giedraityte.\nPatarimai\, kaip 
 sveikai ir nebrangiai pasiruošti šventėms. Receptai.\nRenginys organizu
 ojamas pagal bendruomenių stiprinimo projektą „KARTU–SKANU\"\, kurį
  finansuoja Europos kultūros fondas\, „Europos iššūkis 2022“ progr
 ama.
DTSTAMP:20260423T145944Z
END:VEVENT
END:VCALENDAR