BEGIN:VCALENDAR
VERSION:2.0
PRODID:biblioteka.virtualu.lt
BEGIN:VEVENT
UID:69ea4c3c4ff50
DTSTART:20230110T153000Z
SEQUENCE:0
TRANSP:OPAQUE
DTEND:20230109T220000Z
LOCATION:KMSVB „Kauno atžalyno“ biblioteka (Kauno g. 49)
SUMMARY:Kartu-skanu: klaipėdietiškos virtuvės vakaras
CLASS:PUBLIC
DESCRIPTION:Sausio 10 d.\, antradienį\, 17.30 val. kviečiame į Klaipėdi
 etiškos virtuvės vakarą Klaipėdos miesto savivaldybės Imanuelio Kanto
  viešosios bibliotekos „Kauno atžalyno“ padalinyje (Kauno g. 49).\nJ
 ūsų laukia:\nFilmo iš ciklo „Ką mes bevalgėm? Klaipėdos krašto tr
 adiciniai valgiai“ peržiūra (režisierė ir scenarijaus autorė Dalia 
 Kiseliūnaitė).Pokalbis su lietuvininke Ieva Toleikyte-Biržiene.Varškė
 s pyrago ragavimas.Renginys organizuojamas pagal bendruomenių stiprinimo 
 projektą „KARTU–SKANU“\, kurį finansuoja Europos kultūros fondas\
 , „Europos iššūkis 2022“ programa. Maisto klubo susitikimai vyksta 
 kas antrą antradienį.\nRenginys skirtas Klaipėdos krašto prijungimo pr
 ie Lietuvos 100-mečiui paminėti. Visa renginių programa bibliotekoje.\n
 Kviečiame ir laukiame! Renginio metu gali būti fotografuojama ir/ar film
 uojama.\nRenginio plakatas
DTSTAMP:20260423T164340Z
END:VEVENT
END:VCALENDAR