BEGIN:VCALENDAR
VERSION:2.0
PRODID:biblioteka.virtualu.lt
BEGIN:VEVENT
UID:69ea4c8a4b5e5
DTSTART:20220929T073000Z
SEQUENCE:0
TRANSP:OPAQUE
DTEND:20220928T210000Z
LOCATION:KMSVB Vaikų biblioteka (Danės g.7)
SUMMARY:„Kaip kūrybiškai ugdyti vaikus namuose?“ su Indre Neimante
CLASS:PUBLIC
DESCRIPTION:Rugsėjo 29 d.\, ketvirtadienį\, 10.30 val. kviečiame tėveli
 us kartu su vaikais į paskaitą „Kaip kūrybiškai ugdyti vaikus namuos
 e?“ Klaipėdos miesto savivaldybės Imanuelio Kanto viešosios bibliotek
 os Vaikų padalinyje (Danės g. 7). Praktiniai patarimai tėvams auginanti
 ems vaikus iki 3 m.\nPaskaitą veda Indrė Neimantė - mama\, edukologė\,
  Family Lab Academy Klaipėdoje vadovė ir mokytoja\, knygos tėvams ir sp
 ecialistams bendraautorė\, inovatyvių mokymų lektorė.\nSusitikimo metu
  kalbėsime apie:\n\nvaiko ugdymo artimiausioje aplinkoje naudą bei būdu
 s\;\nkaip užsiimti su vaiku namuose pasitelkiant aplinkoje esančias prie
 mones\;\nkaip pažadinti savo bei vaiko kūrybiškumą\;\nkaip organizuoti
  veiklas atsižvelgiant į vaiko raidos etapus bei sritis.\n\nPaskaita su 
 praktika rengiama\, įgyvendinant Lietuvos kultūros tarybos finansuojamą
  projektą „Kaip (ne)išpūsti iš musės dramblio?“ – skirtą visai
  šeimai: vaikams ir tėvams. Veiklomis prisidedame prie vaiko ir tėvų e
 mocinės gerovės kūrimo\, skatiname kūrybiškumą\, bendruomeniškumą.
 \nSusitikimas NEMOKAMAS. BŪTINA REGISTRACIJA tel. (8 46) 314719\, el. pa
 štu: vaikai@biblioteka.lt arba FB žinute https://www.facebook.com/vaikai
 biblioteka \nDalintis: https://www.facebook.com/events/484764616853191 
DTSTAMP:20260423T164458Z
END:VEVENT
END:VCALENDAR