BEGIN:VCALENDAR
VERSION:2.0
PRODID:biblioteka.virtualu.lt
BEGIN:VEVENT
UID:69ea4cd707a14
DTSTART:20220429T110000Z
SEQUENCE:0
TRANSP:OPAQUE
DTEND:20220429T150000Z
LOCATION:I. Kanto viešoji biblioteka (Turgaus g. 8)
SUMMARY:Edukacinės dirbtuvės „Ieškant tvarumo: vilnos virsmas“ kartu
  su menininke Oksana Graužiniene
CLASS:PUBLIC
DESCRIPTION:Balandžio 29 d.\, penktadienį\, 14.00–18.00 val. Klaipėdos
  miesto savivaldybės Imanuelio Kanto viešojoje bibliotekoje (Turgaus g. 
 8) kartu su tautodailininke\, vilnos vėlimo meistre Oksana Graužiniene s
 urengsime edukacines dirbtuves „Ieškant tvarumo: vilnos virsmas“. Nor
 inčius dalyvauti prašome registruotis tel. (8 46) 448336 arba el. p. bib
 liogr@biblioteka.lt \nVilnos vėlimas – tai gamtos prisilietimas\, tęs
 tinumas. Neišmesdami vilnos\, bet kūrybiškai ją panaudodami\, suteikia
 me vilnai naują gyvenimo formą. Avių vilnos pluoštas – viena draugi
 škiausių tekstilės medžiagų\, gaunama kerpant avis. Vilna šildo gyv
 ūną\, vėliau šildo ir mus. Dėka vilnos plauko vėlimo savybių tą pa
 tį jau suveltą vilnos pluoštą galima vis kitaip panaudoti ir suteikti 
 naują formą bei prasmę.\nKokios savybės būdingos vilnai? Ekologiška\
 , puikiai sugeria ir išgarina drėgmę\, leidžia kvėpuoti odai\, yra na
 udinga sveikatai (aktyvina kraujotaką\; lanolinas yra natūralus vilnos p
 lauką dengiantis riebalas – natūralus antiseptikas\, kuris tirpdamas 
 įsiskverbia į odą ir turi teigiamo poveikio sąnariams\, atpalaiduoja r
 aumenis\, turi termoizoliacinių savybių\, palaiko komfortišką kūno te
 mperatūrą).\nVilnos plastiškumas leidžia išgauti bet kokią norimą f
 ormą\, todėl ją galima naudoti siuvant rūbą\, apavą\, antklodes ir p
 agalves\, kuriant dekoro elementą\, papuošalą\, naudoti kaip sienų ši
 ltinimo medžiagą ir t.t.\nRenginys organizuojamas įgyvendinant Lietuvos
  kultūros tarybos finansuotą projektą „Negalios iššūkis: integraci
 ja“.\nNacionalinės Lietuvos bibliotekų savaitės renginiai\nDalintis: 
 https://www.facebook.com/events/531972248294197 
DTSTAMP:20260423T164615Z
END:VEVENT
END:VCALENDAR