BEGIN:VCALENDAR
VERSION:2.0
PRODID:biblioteka.virtualu.lt
BEGIN:VEVENT
UID:69ea32dd83bc8
DTSTART:20221025T141700Z
SEQUENCE:0
TRANSP:OPAQUE
DTEND:20221024T210000Z
LOCATION:KMSVB „Kauno atžalyno“ biblioteka (Kauno g. 49)
SUMMARY:Bendruomenės stiprinimo iniciatyva „Kartu – skanu: neišmesk m
 oliūgo“
CLASS:PUBLIC
DESCRIPTION:Bendruomenės stiprinimo iniciatyva ieškant sveikesnių sprend
 imų sau ir aplinkai spalio 25 d. 17.17 val. kviečiame į Klaipėdos mies
 to savivaldybės I. Kanto viešosios bibliotekos „Kauno atžalyno“ pad
 alinyje (Kauno g. 49) organizuojamą renginį „Kartu – skanu: neišmes
 k moliūgo“.\nBibliotekoje startuoja Europos kultūros fondo\, „Europe
  Challenge 2022“ programos finansuojamas Bendruomenių stiprinimo projek
 tas „Kartu – skanu“\, kurio atidarymo renginys neatsitiktinai numato
 mas Klimato savaitės metu.\nSusirinkusieji ne tik galės paskanauti ruden
 inių daržovių ir sveikų produktų\, bet ir pabendrauti su kviestiniais
  svečiais: Klaipėdos visuomenės sveikatos biuro specialistais\, tvarumo
  iniciatyvų autoriais\, Maisto banko atstovais bei išgirsti jų įkvepia
 nčius pranešimus:\n\n„Tvari mityba – ir sveikatai\, ir aplinkai“\n
 „Kova su maisto švaistymu: naikinti ar dalintis?“\n„Bendruomenė bi
 bliotekoje. Ar kartu – skanu?“\n\nRenginio metu vyks maisto degustacij
 a: malonūs skonio atradimai – nuo rauginto užkandžio iki saldaus dese
 rto.\nLaukiami ir mažieji lankytojai – Vaikų erdvėje veiks tvarumo di
 rbtuvėlės.\nVisi\, kas norite pabendrauti ir kartu paskanauti\, žymėki
 te kalendoriuje 25 d. bei rezervuokite savo darbotvarkėje laiką 17.17 va
 l. renginiui „Kauno atžalyno“ bibliotekoje\, Kauno g. 49\, Klaipėda.
 Juk KARTU – SKANU!\nInformavimo tikslais renginio metu bus fotografuojam
 a ar/ir filmuojama.\nRenginio plakatas\nDalintis: https://www.facebook.com
 /events/1173439779929279 
DTSTAMP:20260423T145525Z
END:VEVENT
END:VCALENDAR